BEGIN:VCALENDAR
VERSION:2.0
PRODID:-//Koning Kevin - ECPv5.10.0//NONSGML v1.0//EN
CALSCALE:GREGORIAN
METHOD:PUBLISH
X-WR-CALNAME:Koning Kevin
X-ORIGINAL-URL:https://www.koningkevin.be
X-WR-CALDESC:Evenementen voor Koning Kevin
BEGIN:VTIMEZONE
TZID:Europe/Brussels
BEGIN:DAYLIGHT
TZOFFSETFROM:+0100
TZOFFSETTO:+0200
TZNAME:CEST
DTSTART:20210328T010000
END:DAYLIGHT
BEGIN:STANDARD
TZOFFSETFROM:+0200
TZOFFSETTO:+0100
TZNAME:CET
DTSTART:20211031T010000
END:STANDARD
END:VTIMEZONE
BEGIN:VEVENT
DTSTART;TZID=Europe/Brussels:20210725T150000
DTEND;TZID=Europe/Brussels:20210731T150000
DTSTAMP:20260422T114048
CREATED:20201201T050027Z
LAST-MODIFIED:20210520T210435Z
UID:10295-1627225200-1627743600@www.koningkevin.be
SUMMARY:Veld van Vertier (°2012 - 2017) (wachtlijst)
DESCRIPTION:We leven een week lang samen in het gerdorp. Op het veld doen we de meest uiteenlopende activiteiten: een schattenzoektocht\, een spannend bosspel\, samen muziek maken rond het kampvuur\, … Elke dag kies je opnieuw of je gezellig blijft slapen in één van de mongoolse gers\, of je toch liever thuis in je eigen bed kruipt. \nTijdens Veld van Vertier besteden onze begeleiders extra aandacht aan de eerste kampervaring en de eerste nachten weg van huis. Dankzij de flexibele formule kunnen kinderen iedere ochtend weer kiezen of ze overnachten of niet. Zo kunnen we inspelen op de behoeftes van de ouders én kinderen en een laagdrempelige opstap aanbieden waar kinderen kunnen testen of ze graag naar initiatieven gaan met overnachting. \nVoor sommige activiteiten worden de deelnemers opgedeeld in kleinere groepjes volgens leeftijdscategorie. \nOp de dag van aankomst kunnen deelnemers toekomen tussen 14u30 en 15u30. Op de afsluitdag kunnen deelnemers opgehaald worden tussen 14u30 en 15u30. \nWie niet blijft slapen\, kan opgehaald worden tussen 16.30 en 17.30 en de volgende ochtend teruggebracht worden tussen 8.30 en 9.30 u. \n  \n 
URL:https://www.koningkevin.be/initiatief/veld-van-vertier-2012-2017/
CATEGORIES:Vakanties
ATTACH;FMTTYPE=image/jpeg:https://www.koningkevin.be/wp-content/uploads/2020/12/KIVA21_illustraties-21_Veld-van-Vertier_web.jpg
END:VEVENT
END:VCALENDAR